BEGIN:VCALENDAR
VERSION:2.0
PRODID:www.dzs.cz
BEGIN:VEVENT
UID:69ea37e7e67ec
DTSTART;VALUE=DATE:20260629
SEQUENCE:0
TRANSP:OPAQUE
DTEND;VALUE=DATE:20290701
URL:https://dzs.cz/udalost/konference-cedefop-strengthening-foundations-com
 petitive-europe
SUMMARY:Event: Konference Cedefop: \"Strengthening foundations for a compet
 itive Europe\"
CLASS:PUBLIC
X-MICROSOFT-CDO-ALLDAYEVENT:TRUE
DTSTAMP:20260423T151655Z
END:VEVENT
END:VCALENDAR