BEGIN:VCALENDAR
VERSION:2.0
PRODID:www.dzs.cz
BEGIN:VEVENT
UID:69ea37e806b57
DTSTART;VALUE=DATE:20260611
SEQUENCE:0
TRANSP:OPAQUE
DTEND;VALUE=DATE:20260612
URL:https://dzs.cz/udalost/konference-european-student-card-initiative-shap
 ing-student-mobility-beyond-2027
SUMMARY:Event: Konference \"European Student Card Initiative: Shaping stude
 nt mobility beyond 2027\"
CLASS:PUBLIC
X-MICROSOFT-CDO-ALLDAYEVENT:TRUE
DTSTAMP:20260423T151656Z
END:VEVENT
END:VCALENDAR