BEGIN:VCALENDAR
VERSION:2.0
PRODID:www.dzs.cz
BEGIN:VEVENT
UID:69ea60394f737
DTSTART:20260421T110000Z
SEQUENCE:0
TRANSP:OPAQUE
DTEND:20260421T114500Z
URL:https://dzs.cz/udalost/webinar-evropske-komise-what-gets-measured-gets-
 done-new-metrics-knowledge-valorisation
SUMMARY:Event: Webinář Evropské komise: \"What gets measured gets done: 
 new metrics for knowledge valorisation\"
CLASS:PUBLIC
DTSTAMP:20260423T180857Z
END:VEVENT
END:VCALENDAR