BEGIN:VCALENDAR
VERSION:2.0
PRODID:www.dzs.cz
BEGIN:VEVENT
UID:69ea602832ad5
DTSTART;VALUE=DATE:20260414
SEQUENCE:0
TRANSP:OPAQUE
DTEND;VALUE=DATE:20260415
URL:https://dzs.cz/udalost/konference-democracies-under-pressure-role-unive
 rsities
SUMMARY:Event: Konference \"Democracies under Pressure: The Role of Univers
 ities\"
CLASS:PUBLIC
X-MICROSOFT-CDO-ALLDAYEVENT:TRUE
DTSTAMP:20260423T180840Z
END:VEVENT
END:VCALENDAR