BEGIN:VCALENDAR
VERSION:2.0
PRODID:www.dzs.cz
BEGIN:VEVENT
UID:69ea21aad749b
DTSTART:20260520T160000Z
SEQUENCE:0
TRANSP:OPAQUE
DTEND:20260520T170000Z
URL:https://dzs.cz/udalost/webinar-epale-myty-fakta-o-lidske-pameti-uceni
SUMMARY:Event: Webinář EPALE: Mýty a fakta o lidské paměti a učení
CLASS:PUBLIC
DTSTAMP:20260423T134202Z
END:VEVENT
END:VCALENDAR