BEGIN:VCALENDAR
VERSION:2.0
PRODID:www.dzs.cz
BEGIN:VEVENT
UID:69ea4c03cd2bb
DTSTART:20260414T153000Z
SEQUENCE:0
TRANSP:OPAQUE
DTEND:20260414T180000Z
URL:https://dzs.cz/udalost/educafe-implementace-planu-stem-vzdelavani
SUMMARY:Event: EduCafé: Putting the STEM Education Strategic Plan into Act
 ion
CLASS:PUBLIC
DTSTAMP:20260423T164243Z
END:VEVENT
END:VCALENDAR