BEGIN:VCALENDAR
VERSION:2.0
PRODID:www.dzs.cz
BEGIN:VEVENT
UID:69ea4bee1d73d
DTSTART:20260620T080000Z
SEQUENCE:0
TRANSP:OPAQUE
DTEND:20260621T110000Z
URL:https://dzs.cz/udalost/od-napadu-k-projektu-4
SUMMARY:Event: Od nápadu k projektu
CLASS:PUBLIC
DTSTAMP:20260423T164222Z
END:VEVENT
END:VCALENDAR