BEGIN:VCALENDAR
VERSION:2.0
PRODID:www.dzs.cz
BEGIN:VEVENT
UID:69ea37e894950
DTSTART;VALUE=DATE:20261014
SEQUENCE:0
TRANSP:OPAQUE
DTEND;VALUE=DATE:20261118
URL:https://dzs.cz/udalost/european-ai-innovation-month
SUMMARY:Event: European AI Innovation Month
CLASS:PUBLIC
X-MICROSOFT-CDO-ALLDAYEVENT:TRUE
DTSTAMP:20260423T151656Z
END:VEVENT
END:VCALENDAR