BEGIN:VCALENDAR
VERSION:2.0
PRODID:www.dzs.cz
BEGIN:VEVENT
UID:69ea7918ca0ec
DTSTART:20260408T160000Z
SEQUENCE:0
TRANSP:OPAQUE
DTEND:20260408T170000Z
URL:https://dzs.cz/udalost/webinar-epale-prestan-vysvetlovat-zacni-se-ptat
SUMMARY:Event: Webinář EPALE: Přestaň vysvětlovat\, začni se ptát
CLASS:PUBLIC
DTSTAMP:20260423T195504Z
END:VEVENT
END:VCALENDAR