BEGIN:VCALENDAR
VERSION:2.0
PRODID:www.dzs.cz
BEGIN:VEVENT
UID:69ea7ec31a1ab
DTSTART:20260320T083000Z
SEQUENCE:0
TRANSP:OPAQUE
DTEND:20260320T133000Z
URL:https://dzs.cz/udalost/regionalni-seminare-epale-2026-ceske-budejovice
SUMMARY:Event: Regionální semináře EPALE 2026 České Budějovice
CLASS:PUBLIC
DTSTAMP:20260423T201915Z
END:VEVENT
END:VCALENDAR