BEGIN:VCALENDAR
VERSION:2.0
PRODID:www.dzs.cz
BEGIN:VEVENT
UID:69ea791911804
DTSTART:20260313T083000Z
SEQUENCE:0
TRANSP:OPAQUE
DTEND:20260313T133000Z
URL:https://dzs.cz/udalost/regionalni-seminar-epale-zlin-2026
SUMMARY:Event: Regionální seminář EPALE Zlín 2026
CLASS:PUBLIC
DTSTAMP:20260423T195505Z
END:VEVENT
END:VCALENDAR