BEGIN:VCALENDAR
VERSION:2.0
PRODID:www.dzs.cz
BEGIN:VEVENT
UID:69ea37e7e2c36
DTSTART:20260610T133000Z
SEQUENCE:0
TRANSP:OPAQUE
DTEND:20260610T150000Z
URL:https://dzs.cz/udalost/webinar-leading-sustainability-education
SUMMARY:Event: Webinář “Leading Sustainability in Education”
CLASS:PUBLIC
DTSTAMP:20260423T151655Z
END:VEVENT
END:VCALENDAR