BEGIN:VCALENDAR
VERSION:2.0
PRODID:www.dzs.cz
BEGIN:VEVENT
UID:69eaa94932199
DTSTART:20260224T140000Z
SEQUENCE:0
TRANSP:OPAQUE
DTEND:20260224T160000Z
URL:https://dzs.cz/udalost/hledani-projektoveho-partnera-v-ms
SUMMARY:Event: Hledání projektového partnera v MŠ
CLASS:PUBLIC
DTSTAMP:20260423T232041Z
END:VEVENT
END:VCALENDAR