BEGIN:VCALENDAR
VERSION:2.0
PRODID:www.dzs.cz
BEGIN:VEVENT
UID:69ea4c0350321
DTSTART;VALUE=DATE:20260326
SEQUENCE:0
TRANSP:OPAQUE
DTEND;VALUE=DATE:20260327
URL:https://dzs.cz/udalost/informacni-den-klastr-2-kultura-kreativita-inklu
 zivni-spolecnost-0
SUMMARY:Event: Information Day: Cluster 2 – Culture\, Creativity\, and In
 clusive Society
CLASS:PUBLIC
X-MICROSOFT-CDO-ALLDAYEVENT:TRUE
DTSTAMP:20260423T164243Z
END:VEVENT
END:VCALENDAR