BEGIN:VCALENDAR
VERSION:2.0
PRODID:www.dzs.cz
BEGIN:VEVENT
UID:69ea4c042c424
DTSTART;VALUE=DATE:20260318
SEQUENCE:0
TRANSP:OPAQUE
DTEND;VALUE=DATE:20260319
URL:https://dzs.cz/udalost/climate-action-days-oceans-x-glaciers-heights-de
 pths
SUMMARY:Event: Climate Action Days: Oceans x Glaciers – From Heights to D
 epths
CLASS:PUBLIC
X-MICROSOFT-CDO-ALLDAYEVENT:TRUE
DTSTAMP:20260423T164244Z
END:VEVENT
END:VCALENDAR