BEGIN:VCALENDAR
VERSION:2.0
PRODID:www.dzs.cz
BEGIN:VEVENT
UID:69ea4c0467c71
DTSTART;VALUE=DATE:20260318
SEQUENCE:0
TRANSP:OPAQUE
DTEND;VALUE=DATE:20260319
URL:https://dzs.cz/udalost/informacni-den-vyzkumne-infrastruktury-programu-
 horizont-evropa
SUMMARY:Event: Information Day: Horizon Europe Research Infrastructures
CLASS:PUBLIC
X-MICROSOFT-CDO-ALLDAYEVENT:TRUE
DTSTAMP:20260423T164244Z
END:VEVENT
END:VCALENDAR