BEGIN:VCALENDAR
VERSION:2.0
PRODID:www.dzs.cz
BEGIN:VEVENT
UID:69ea4bede5731
DTSTART;VALUE=DATE:20260317
SEQUENCE:0
TRANSP:OPAQUE
DTEND;VALUE=DATE:20260319
URL:https://dzs.cz/udalost/euspa-industry-days-2026
SUMMARY:Event: EUSPA Industry Days 2026
CLASS:PUBLIC
X-MICROSOFT-CDO-ALLDAYEVENT:TRUE
DTSTAMP:20260423T164221Z
END:VEVENT
END:VCALENDAR