BEGIN:VCALENDAR
VERSION:2.0
PRODID:www.dzs.cz
BEGIN:VEVENT
UID:69ea62ff38257
DTSTART;VALUE=DATE:20260304
SEQUENCE:0
TRANSP:OPAQUE
DTEND;VALUE=DATE:20260307
URL:https://dzs.cz/udalost/konference-k-pokroku-v-lecbe-vzacnych-onemocneni
SUMMARY:Event: Conference on Advancement of Treatments for Rare Diseases
CLASS:PUBLIC
X-MICROSOFT-CDO-ALLDAYEVENT:TRUE
DTSTAMP:20260423T182047Z
END:VEVENT
END:VCALENDAR