BEGIN:VCALENDAR
VERSION:2.0
PRODID:www.dzs.cz
BEGIN:VEVENT
UID:69ea630c4bfbb
DTSTART;VALUE=DATE:20260302
SEQUENCE:0
TRANSP:OPAQUE
DTEND;VALUE=DATE:20260307
URL:https://dzs.cz/udalost/european-ocean-days-2026
SUMMARY:Event: European Ocean Days 2026  
CLASS:PUBLIC
X-MICROSOFT-CDO-ALLDAYEVENT:TRUE
DTSTAMP:20260423T182100Z
END:VEVENT
END:VCALENDAR