BEGIN:VCALENDAR
VERSION:2.0
PRODID:www.dzs.cz
BEGIN:VEVENT
UID:69ea6300b271e
DTSTART;VALUE=DATE:20260217
SEQUENCE:0
TRANSP:OPAQUE
DTEND;VALUE=DATE:20260218
URL:https://dzs.cz/udalost/webinar-na-tema-transdisciplinarity-pro-inovacni
 -dopad
SUMMARY:Event: Webinar on The power of transdisciplinarity for innovation-l
 ed impact
CLASS:PUBLIC
X-MICROSOFT-CDO-ALLDAYEVENT:TRUE
DTSTAMP:20260423T182048Z
END:VEVENT
END:VCALENDAR