BEGIN:VCALENDAR
VERSION:2.0
PRODID:www.dzs.cz
BEGIN:VEVENT
UID:69ea62fe9dea2
DTSTART;VALUE=DATE:20260210
SEQUENCE:0
TRANSP:OPAQUE
DTEND;VALUE=DATE:20260211
URL:https://dzs.cz/udalost/informacni-den-klastr-1-zdravi
SUMMARY:Event: Information Day: Cluster 1 - Health  
CLASS:PUBLIC
X-MICROSOFT-CDO-ALLDAYEVENT:TRUE
DTSTAMP:20260423T182046Z
END:VEVENT
END:VCALENDAR