BEGIN:VCALENDAR
VERSION:2.0
PRODID:www.dzs.cz
BEGIN:VEVENT
UID:69ea630039330
DTSTART;VALUE=DATE:20260129
SEQUENCE:0
TRANSP:OPAQUE
DTEND;VALUE=DATE:20260131
URL:https://dzs.cz/udalost/informacni-dny-klastr-4-digitalizace-prumysl-ves
 mir
SUMMARY:Event: Information Days: Cluster 4 - Digitalization\, Industry\, an
 d Space  
CLASS:PUBLIC
X-MICROSOFT-CDO-ALLDAYEVENT:TRUE
DTSTAMP:20260423T182048Z
END:VEVENT
END:VCALENDAR