BEGIN:VCALENDAR
VERSION:2.0
PRODID:www.dzs.cz
BEGIN:VEVENT
UID:69ea62fed3647
DTSTART;VALUE=DATE:20260127
SEQUENCE:0
TRANSP:OPAQUE
DTEND;VALUE=DATE:20260129
URL:https://dzs.cz/udalost/european-space-conference-2026
SUMMARY:Event: European Space Conference 2026 
CLASS:PUBLIC
X-MICROSOFT-CDO-ALLDAYEVENT:TRUE
DTSTAMP:20260423T182046Z
END:VEVENT
END:VCALENDAR