BEGIN:VCALENDAR
VERSION:2.0
PRODID:www.dzs.cz
BEGIN:VEVENT
UID:69ea68123a6ff
DTSTART;VALUE=DATE:20260127
SEQUENCE:0
TRANSP:OPAQUE
DTEND;VALUE=DATE:20260128
URL:https://dzs.cz/udalost/seminar-deep-dive-umela-inteligence-pro-klimatic
 ka-reseni
SUMMARY:Event: Deep dive seminar: Artificial intelligence for climate solut
 ions  
CLASS:PUBLIC
X-MICROSOFT-CDO-ALLDAYEVENT:TRUE
DTSTAMP:20260423T184226Z
END:VEVENT
END:VCALENDAR