BEGIN:VCALENDAR
VERSION:2.0
PRODID:www.dzs.cz
BEGIN:VEVENT
UID:69ea7e9435a08
DTSTART;VALUE=DATE:20260126
SEQUENCE:0
TRANSP:OPAQUE
DTEND;VALUE=DATE:20260129
URL:https://dzs.cz/udalost/workshop-k-mezinarodnim-otazkam-zmeny-klimatu
SUMMARY:Event: Workshop on International Climate Change Issues  
CLASS:PUBLIC
X-MICROSOFT-CDO-ALLDAYEVENT:TRUE
DTSTAMP:20260423T201828Z
END:VEVENT
END:VCALENDAR