BEGIN:VCALENDAR
VERSION:2.0
PRODID:www.dzs.cz
BEGIN:VEVENT
UID:69ea7ebd1e4a5
DTSTART;VALUE=DATE:20260120
SEQUENCE:0
TRANSP:OPAQUE
DTEND;VALUE=DATE:20260121
URL:https://dzs.cz/udalost/informacni-den-novinky-v-pracovnim-programu-hori
 zont-evropa
SUMMARY:Event: Information Day: News in the Horizon Europe Work Program 
CLASS:PUBLIC
X-MICROSOFT-CDO-ALLDAYEVENT:TRUE
DTSTAMP:20260423T201909Z
END:VEVENT
END:VCALENDAR