BEGIN:VCALENDAR
VERSION:2.0
PRODID:www.dzs.cz
BEGIN:VEVENT
UID:69ea7e94a4c42
DTSTART:20260113T090000Z
SEQUENCE:0
TRANSP:OPAQUE
DTEND:20260113T123000Z
URL:https://dzs.cz/udalost/infowebinar-eacea-erasmus-european-degree-explor
 atory-action-vyhledove-projekty-erasmus
SUMMARY:Event: EACEA Info session: Erasmus+ European Degree Exploratory Act
 ion and Erasmus+ Forward-Looking Projects Higher Education
CLASS:PUBLIC
DTSTAMP:20260423T201828Z
END:VEVENT
END:VCALENDAR