BEGIN:VCALENDAR
VERSION:2.0
PRODID:www.dzs.cz
BEGIN:VEVENT
UID:69eaa90f76218
DTSTART:20260217T130000Z
SEQUENCE:0
TRANSP:OPAQUE
DTEND:20260217T150000Z
URL:https://dzs.cz/udalost/individualni-konzultace-pro-zadatele-o-solidarni
 -projekty-esc30-6
SUMMARY:Event: Individuální konzultace pro žadatele o solidární projek
 ty ESC30
CLASS:PUBLIC
DTSTAMP:20260423T231943Z
END:VEVENT
END:VCALENDAR