BEGIN:VCALENDAR
VERSION:2.0
PRODID:www.dzs.cz
BEGIN:VEVENT
UID:69ea9687561dd
DTSTART:20251208T170000Z
SEQUENCE:0
TRANSP:OPAQUE
DTEND:20251208T203000Z
URL:https://dzs.cz/udalost/educafe-less-known-inclusion-working-talented-pu
 pils-students-and-young-people
SUMMARY:Event: EduCafé: A Less Known Inclusion: Working with Talented Pupi
 ls\, Students and Young People
CLASS:PUBLIC
DTSTAMP:20260423T220039Z
END:VEVENT
END:VCALENDAR