BEGIN:VCALENDAR
VERSION:2.0
PRODID:www.dzs.cz
BEGIN:VEVENT
UID:69eaa99b9aa3c
DTSTART:20251127T090000Z
SEQUENCE:0
TRANSP:OPAQUE
DTEND:20251127T120000Z
URL:https://dzs.cz/udalost/infowebinar-eacea-k-vyzve-na-dvoulete-financovan
 i-alianci-evropskych-univerzit
SUMMARY:Event: EACEA info session on the call for two-year funding for Euro
 pean University Alliances
CLASS:PUBLIC
DTSTAMP:20260423T232203Z
END:VEVENT
END:VCALENDAR