BEGIN:VCALENDAR
VERSION:2.0
PRODID:www.dzs.cz
BEGIN:VEVENT
UID:69ea7eb3e6081
DTSTART;VALUE=DATE:20260122
SEQUENCE:0
TRANSP:OPAQUE
DTEND;VALUE=DATE:20260124
URL:https://dzs.cz/udalost/informacni-dny-nove-vyzvy-pro-klastr-6
SUMMARY:Event: The Info Days: New Calls for Cluster 6 
CLASS:PUBLIC
X-MICROSOFT-CDO-ALLDAYEVENT:TRUE
DTSTAMP:20260423T201859Z
END:VEVENT
END:VCALENDAR