BEGIN:VCALENDAR
VERSION:2.0
PRODID:www.dzs.cz
BEGIN:VEVENT
UID:69ea7ebd53c94
DTSTART;VALUE=DATE:20260122
SEQUENCE:0
TRANSP:OPAQUE
DTEND;VALUE=DATE:20260123
URL:https://dzs.cz/udalost/informacni-den-vyzvy-wideningu
SUMMARY:Event: The Info Day: Widening Calls 
CLASS:PUBLIC
X-MICROSOFT-CDO-ALLDAYEVENT:TRUE
DTSTAMP:20260423T201909Z
END:VEVENT
END:VCALENDAR