BEGIN:VCALENDAR
VERSION:2.0
PRODID:www.dzs.cz
BEGIN:VEVENT
UID:69ea7ebd8dba1
DTSTART;VALUE=DATE:20260120
SEQUENCE:0
TRANSP:OPAQUE
DTEND;VALUE=DATE:20260122
URL:https://dzs.cz/udalost/informacni-dny-mise-programu-horizont-evropa
SUMMARY:Event: The Info Days: Missions of the Horizon Europe Programme 
CLASS:PUBLIC
X-MICROSOFT-CDO-ALLDAYEVENT:TRUE
DTSTAMP:20260423T201909Z
END:VEVENT
END:VCALENDAR