BEGIN:VCALENDAR
VERSION:2.0
PRODID:www.dzs.cz
BEGIN:VEVENT
UID:69ea967b48eb2
DTSTART;VALUE=DATE:20251217
SEQUENCE:0
TRANSP:OPAQUE
DTEND;VALUE=DATE:20251219
URL:https://dzs.cz/udalost/konference-european-science-diplomacy
SUMMARY:Event: European Science Diplomacy conference 
CLASS:PUBLIC
X-MICROSOFT-CDO-ALLDAYEVENT:TRUE
DTSTAMP:20260423T220027Z
END:VEVENT
END:VCALENDAR