BEGIN:VCALENDAR
VERSION:2.0
PRODID:www.dzs.cz
BEGIN:VEVENT
UID:69ea967b8ca0f
DTSTART;VALUE=DATE:20251215
SEQUENCE:0
TRANSP:OPAQUE
DTEND;VALUE=DATE:20251218
URL:https://dzs.cz/udalost/konference-eu-agri-food-days-2025
SUMMARY:Event: The EU Agri–Food Days 2025 conference 
CLASS:PUBLIC
X-MICROSOFT-CDO-ALLDAYEVENT:TRUE
DTSTAMP:20260423T220027Z
END:VEVENT
END:VCALENDAR