BEGIN:VCALENDAR
VERSION:2.0
PRODID:www.dzs.cz
BEGIN:VEVENT
UID:69ea9687d6922
DTSTART;VALUE=DATE:20251211
SEQUENCE:0
TRANSP:OPAQUE
DTEND;VALUE=DATE:20251212
URL:https://dzs.cz/udalost/informacni-dny-era-vyzvy-v-programu-widera
SUMMARY:Event: The Info Day: the new ERA calls under WIDERA  
CLASS:PUBLIC
X-MICROSOFT-CDO-ALLDAYEVENT:TRUE
DTSTAMP:20260423T220039Z
END:VEVENT
END:VCALENDAR