BEGIN:VCALENDAR
VERSION:2.0
PRODID:www.dzs.cz
BEGIN:VEVENT
UID:69ea967b14c70
DTSTART;VALUE=DATE:20251210
SEQUENCE:0
TRANSP:OPAQUE
DTEND;VALUE=DATE:20251213
URL:https://dzs.cz/udalost/konference-research-careers-2025-freedom-scienti
 fic-research
SUMMARY:Event: Research Careers 2025 Conference and Freedom of Scientific R
 esearch conference 
CLASS:PUBLIC
X-MICROSOFT-CDO-ALLDAYEVENT:TRUE
DTSTAMP:20260423T220027Z
END:VEVENT
END:VCALENDAR