BEGIN:VCALENDAR
VERSION:2.0
PRODID:www.dzs.cz
BEGIN:VEVENT
UID:69ea967be96db
DTSTART;VALUE=DATE:20251210
SEQUENCE:0
TRANSP:OPAQUE
DTEND;VALUE=DATE:20251211
URL:https://dzs.cz/udalost/workshop-odolnost-zdravotnich-systemu-pro-starno
 uci-populaci-eu
SUMMARY:Event: Resilience of Health Systems for an Ageing EU Population wor
 kshop 
CLASS:PUBLIC
X-MICROSOFT-CDO-ALLDAYEVENT:TRUE
DTSTAMP:20260423T220027Z
END:VEVENT
END:VCALENDAR