BEGIN:VCALENDAR
VERSION:2.0
PRODID:www.dzs.cz
BEGIN:VEVENT
UID:69ea96a72a6db
DTSTART:20251204T140000Z
SEQUENCE:0
TRANSP:OPAQUE
DTEND:20251204T210000Z
URL:https://dzs.cz/en/event/international-student-and-alumni-meetup-olomouc
 -2025
SUMMARY:Event: International Student and Alumni Meetup Olomouc 2025
CLASS:PUBLIC
DTSTAMP:20260423T220111Z
END:VEVENT
END:VCALENDAR