BEGIN:VCALENDAR
VERSION:2.0
PRODID:www.dzs.cz
BEGIN:VEVENT
UID:69eaa91a8891d
DTSTART;VALUE=DATE:20251120
SEQUENCE:0
TRANSP:OPAQUE
DTEND;VALUE=DATE:20251122
URL:https://dzs.cz/udalost/european-degree-forum-2025
SUMMARY:Event:  European Degree Forum 2025
CLASS:PUBLIC
X-MICROSOFT-CDO-ALLDAYEVENT:TRUE
DTSTAMP:20260423T231954Z
END:VEVENT
END:VCALENDAR