BEGIN:VCALENDAR
VERSION:2.0
PRODID:www.dzs.cz
BEGIN:VEVENT
UID:69eaa8dc74d58
DTSTART:20251126T100000Z
SEQUENCE:0
TRANSP:OPAQUE
DTEND:20251126T110000Z
URL:https://dzs.cz/udalost/barrande-fellowships-vyzva-2026-webinar-pro-zada
 tele-o-stipendium
SUMMARY:Event: Barrande Fellowships - 2026 Call: Information webinar for st
 udents
CLASS:PUBLIC
DTSTAMP:20260423T231852Z
END:VEVENT
END:VCALENDAR