BEGIN:VCALENDAR
VERSION:2.0
PRODID:www.dzs.cz
BEGIN:VEVENT
UID:69eaa9147d145
DTSTART:20251115T170000Z
SEQUENCE:0
TRANSP:OPAQUE
DTEND:20251115T190000Z
URL:https://dzs.cz/en/event/alumni-meetup-thailand-2025
SUMMARY:Event: Alumni Meetup Thailand 2025
CLASS:PUBLIC
DTSTAMP:20260423T231948Z
END:VEVENT
END:VCALENDAR