BEGIN:VCALENDAR
VERSION:2.0
PRODID:www.dzs.cz
BEGIN:VEVENT
UID:69ea8f4e2844e
DTSTART:20211004T140000Z
SEQUENCE:0
TRANSP:OPAQUE
DTEND:20211004T163000Z
URL:https://dzs.cz/udalost/alumni-meetup-austria-2021
SUMMARY:Event: Alumni Meetup - Austria 2021
CLASS:PUBLIC
DTSTAMP:20260423T212950Z
END:VEVENT
END:VCALENDAR