BEGIN:VCALENDAR
VERSION:2.0
PRODID:www.dzs.cz
BEGIN:VEVENT
UID:69ea217b14146
DTSTART:20260610T133000Z
SEQUENCE:0
TRANSP:OPAQUE
DTEND:20260610T150000Z
URL:https://dzs.cz/udalost/webinar-cei-leading-sustainability-education
SUMMARY:Event: Webinář CEI: \"Leading Sustainability in Education\"
CLASS:PUBLIC
DTSTAMP:20260423T134115Z
END:VEVENT
END:VCALENDAR