BEGIN:VCALENDAR
VERSION:2.0
PRODID:www.dzs.cz
BEGIN:VEVENT
UID:69ea08f9b41c7
DTSTART;VALUE=DATE:20260602
SEQUENCE:0
TRANSP:OPAQUE
DTEND;VALUE=DATE:20260603
URL:https://dzs.cz/udalost/seminar-cedefop-skills-europes-competitiveness
SUMMARY:Event: Seminář Cedefop: \"Skills for Europe’s competitiveness\"
CLASS:PUBLIC
X-MICROSOFT-CDO-ALLDAYEVENT:TRUE
DTSTAMP:20260423T115641Z
END:VEVENT
END:VCALENDAR