BEGIN:VCALENDAR
VERSION:2.0
PRODID:www.dzs.cz
BEGIN:VEVENT
UID:69ea4beea0b10
DTSTART:20260414T153000Z
SEQUENCE:0
TRANSP:OPAQUE
DTEND:20260414T180000Z
URL:https://dzs.cz/udalost/educafe-implementace-planu-stem-vzdelavani
SUMMARY:Event: EduCafé: Implementace plánu STEM vzdělávání
CLASS:PUBLIC
DTSTAMP:20260423T164222Z
END:VEVENT
END:VCALENDAR