BEGIN:VCALENDAR
VERSION:2.0
PRODID:www.dzs.cz
BEGIN:VEVENT
UID:69ea06b4c91aa
DTSTART;VALUE=DATE:20260525
SEQUENCE:0
TRANSP:OPAQUE
DTEND;VALUE=DATE:20260530
URL:https://dzs.cz/udalost/partnership-building-activity-pba-pro-kulturni-u
 melecke-instituce
SUMMARY:Event: Partnership-Building Activity (PBA) pro kulturní a uměleck
 é instituce
CLASS:PUBLIC
X-MICROSOFT-CDO-ALLDAYEVENT:TRUE
DTSTAMP:20260423T114700Z
END:VEVENT
END:VCALENDAR