BEGIN:VCALENDAR
VERSION:2.0
PRODID:www.dzs.cz
BEGIN:VEVENT
UID:69ea7e55f3728
DTSTART:20260304T170000Z
SEQUENCE:0
TRANSP:OPAQUE
DTEND:20260304T180000Z
URL:https://dzs.cz/udalost/webinar-epale-agentni-ai-v-lektorske-praxi
SUMMARY:Event: Webinář EPALE: Agentní AI v lektorské praxi
CLASS:PUBLIC
DTSTAMP:20260423T201726Z
END:VEVENT
END:VCALENDAR