BEGIN:VCALENDAR
VERSION:2.0
PRODID:www.dzs.cz
BEGIN:VEVENT
UID:69ea7e4aa7bd1
DTSTART:20260305T143000Z
SEQUENCE:0
TRANSP:OPAQUE
DTEND:20260305T160000Z
URL:https://dzs.cz/udalost/webinar-twin-transition-understanding-why-and-bu
 ilding-how
SUMMARY:Event: Webinář “Twin Transition – Understanding the Why and B
 uilding the How”
CLASS:PUBLIC
DTSTAMP:20260423T201714Z
END:VEVENT
END:VCALENDAR