BEGIN:VCALENDAR
VERSION:2.0
PRODID:www.dzs.cz
BEGIN:VEVENT
UID:69ea7e5584b7a
DTSTART:20260305T093000Z
SEQUENCE:0
TRANSP:OPAQUE
DTEND:20260305T113000Z
URL:https://dzs.cz/udalost/webinar-lllab-3-investing-future-europe-part-1
SUMMARY:Event: Webinář LLLAB 3 - \"Investing in the future of Europe - pa
 rt 1\"
CLASS:PUBLIC
DTSTAMP:20260423T201725Z
END:VEVENT
END:VCALENDAR